BEGIN:VCALENDAR
VERSION:2.0
PRODID:-//ChamberMaster//Event Calendar 2.0//EN
METHOD:PUBLISH
X-PUBLISHED-TTL:P1H
REFRESH-INTERVAL:P1H
CALSCALE:GREGORIAN
BEGIN:VTIMEZONE
TZID:America/New_York
BEGIN:DAYLIGHT
RRULE:FREQ=YEARLY;BYMONTH=3;BYDAY=2SU
DTSTART:20070101T000000
TZOFFSETFROM:-0500
TZOFFSETTO:-0400
TZNAME:Eastern Daylight Time
END:DAYLIGHT
BEGIN:STANDARD
RRULE:FREQ=YEARLY;BYMONTH=11;BYDAY=1SU
DTSTART:20070101T000000
TZOFFSETFROM:-0400
TZOFFSETTO:-0500
TZNAME:Eastern Standard Time
END:STANDARD
END:VTIMEZONE
BEGIN:VEVENT
DTSTART;TZID=America/New_York:20260416T180000
DTEND;TZID=America/New_York:20260416T193000
X-MICROSOFT-CDO-ALLDAYEVENT:FALSE
SUMMARY:CALS Fundamentals of Surveying Exam Study Group
DESCRIPTION:The Connecticut Association of Land Surveyors is hosting a Fundamentals of Surveying study group for those preparing for the FS exam. \nPresenter: Dane Courville\, PLSTopic: PLSSBook: Fundamentals of Surveying: Exam Study Manual by Dane CourvilleThis session is $50. Once you register\, a link will be sent to you to attend.Please email Kathy@ctsurveyors.org to register for the class.Any questions\, please email rachel@landmarksurveys.com.
X-ALT-DESC;FMTTYPE=text/html:<!DOCTYPE html><html><head><title></title></head><body aria-disabled="false"><p>The Connecticut Association of Land Surveyors is hosting a Fundamentals of Surveying study group for those preparing for the FS exam.&nbsp\;</p><p><br></p><p>Presenter: Dane Courville\, PLS</p><p>Topic: PLSS</p><p>Book: Fundamentals of Surveying: Exam Study Manual by Dane Courville</p><p>This session is $50. Once you register\, a link will be sent to you to attend.</p><p>Please email <a fr-original-style="" href="mailto:Kathy@ctsurveyors.org" style="user-select: auto\;">Kathy@ctsurveyors.org</a> to register for the class.</p><p>Any questions\, please email <a fr-original-style="" href="mailto:rachel@landmarksurveys.com" style="user-select: auto\;">rachel@landmarksurveys.com</a>.</p></body></html>
LOCATION:
UID:e.4075.1437320
SEQUENCE:3
DTSTAMP:20260425T231926Z
URL:https://massachusettsassociationoflandsurveyorsandcivilengineers.growthzoneapp.com/eventcalendar/Details/cals-fundamentals-of-surveying-exam-study-group-1701260?sourceTypeId=Hub
END:VEVENT
END:VCALENDAR
